BEGIN:VCALENDAR
VERSION:2.0
CALSCALE:GREGORIAN
PRODID:-//Diputació de Barcelona//DibaCMS//EN
BEGIN:VEVENT
UID:2369
DTSTAMP:20260421T134331
DTSTART:20260424T180000
DTEND:20260424T200000
SUMMARY:Taller de rap
LOCATION:
METHOD:PUBLISH
X-WR-CALNAME:pla@elpladelpenedes.cat
X-WR-TIMEZONE:Europe/Madrid
DESCRIPTION:
URI:https://www.elpladelpenedes.cat/actualitat/agenda/taller-de-rap.html
CLASS:PUBLIC
END:VEVENT
END:VCALENDAR
