BEGIN:VCALENDAR
VERSION:2.0
CALSCALE:GREGORIAN
PRODID:-//Diputació de Barcelona//DibaCMS//EN
BEGIN:VEVENT
UID:2347
DTSTAMP:20260422T102612
DTSTART:20260216T100000
DTEND:20260216T130000
SUMMARY:Pintem murals en contra de la violència de gènere
LOCATION:
METHOD:PUBLISH
X-WR-CALNAME:pla@elpladelpenedes.cat
X-WR-TIMEZONE:Europe/Madrid
DESCRIPTION:
URI:https://www.elpladelpenedes.cat/actualitat/agenda/pintem-murals-en-contra-de-la-violencia-de-genere.html
CLASS:PUBLIC
END:VEVENT
END:VCALENDAR
